BEGIN:VCALENDAR
VERSION:2.0
PRODID:-//Tukios.com/
BEGIN:VEVENT
UID:d5fcf417-92b0-4b94-bbff-50f37f5676b4@obituaries.weberfuneralhomes.com
DTSTAMP:20260426T010816Z
DTSTART:20260429T160000Z
DTEND:20260429T163000Z
SUMMARY:Funeral Service
DESCRIPTION:
URL:https://obituaries.weberfuneralhomes.com/obituaries/william-yost
LOCATION: 502 Ridge Avenue  Allentown PA 18102
GEO:40.6130175;-75.4617408
END:VEVENT
END:VCALENDAR