BEGIN:VCALENDAR
VERSION:2.0
PRODID:-//Tukios.com/
BEGIN:VEVENT
UID:90eb9bc0-7864-4c3a-940b-7687512f9b8d@obituaries.weberfuneralhomes.com
DTSTAMP:20260426T010341Z
DTSTART:20260429T150000Z
DTEND:20260429T160000Z
SUMMARY:Visitation
DESCRIPTION:
URL:https://obituaries.weberfuneralhomes.com/obituaries/william-yost
LOCATION: 502 Ridge Avenue  Allentown PA 18102
GEO:40.6130175;-75.4617408
END:VEVENT
END:VCALENDAR