BEGIN:VCALENDAR
VERSION:2.0
PRODID:-//Tukios.com/
BEGIN:VEVENT
UID:a89f7639-c8ff-466a-8848-2a9eb5866d1e@obituaries.weberfuneralhomes.com
DTSTAMP:20260423T222506Z
DTSTART:20260425T180000Z
DTEND:20260425T190000Z
SUMMARY:Memorial Service
DESCRIPTION:
URL:https://obituaries.weberfuneralhomes.com/obituaries/daniel-kiriposki
LOCATION:Norcross Weber Funeral Home 101 North Main Street  Coopersburg 
	PA 18036
GEO:40.5126899;-75.3896511
END:VEVENT
END:VCALENDAR