BEGIN:VCALENDAR
VERSION:2.0
PRODID:-//Tukios.com/
BEGIN:VEVENT
UID:ee9e7d7a-c17b-4ddb-8be4-37a5087109d3@obituaries.weberfuneralhomes.com
DTSTAMP:20260423T222237Z
DTSTART:20260425T170000Z
DTEND:20260425T180000Z
SUMMARY:Visitation
DESCRIPTION:
URL:https://obituaries.weberfuneralhomes.com/obituaries/daniel-kiriposki
LOCATION:Norcross Weber Funeral Home 101 North Main Street  Coopersburg 
	PA 18036
GEO:40.5126899;-75.3896511
END:VEVENT
END:VCALENDAR